BEGIN:VCALENDAR
VERSION:2.0
PRODID:-//ChamberMaster//Event Calendar 2.0//EN
METHOD:PUBLISH
X-PUBLISHED-TTL:P3D
REFRESH-INTERVAL:P3D
CALSCALE:GREGORIAN
BEGIN:VEVENT
DTSTART:20091217T060000Z
DTEND:20091217T060000Z
X-MICROSOFT-CDO-ALLDAYEVENT:FALSE
SUMMARY:2009 Board of Directors - December 17\, 2009 - Overton Luncheon
DESCRIPTION:
X-ALT-DESC;FMTTYPE=text/html:
LOCATION:
UID:e.2749.3097
SEQUENCE:3
DTSTAMP:20260421T220412Z
URL:https://business.lubbockchamber.com/events/details/2009-board-of-directors-december-17-2009-overton-luncheon-12-17-2009-3097
END:VEVENT

END:VCALENDAR
