BEGIN:VCALENDAR
VERSION:2.0
PRODID:-//ChamberMaster//Event Calendar 2.0//EN
METHOD:PUBLISH
X-PUBLISHED-TTL:P3D
REFRESH-INTERVAL:P3D
CALSCALE:GREGORIAN
BEGIN:VEVENT
DTSTART:20090724T050000Z
DTEND:20090724T050000Z
X-MICROSOFT-CDO-ALLDAYEVENT:FALSE
SUMMARY:2009 Board of Directors - July 23\, 2009 - HillCrest
DESCRIPTION:
X-ALT-DESC;FMTTYPE=text/html:
LOCATION:
UID:e.2749.3088
SEQUENCE:3
DTSTAMP:20260422T063208Z
URL:https://business.lubbockchamber.com/events/details/2009-board-of-directors-july-23-2009-hillcrest-07-24-2009-3088
END:VEVENT

END:VCALENDAR
