BEGIN:VCALENDAR
VERSION:2.0
PRODID:-//ChamberMaster//Event Calendar 2.0//EN
METHOD:PUBLISH
X-PUBLISHED-TTL:P3D
REFRESH-INTERVAL:P3D
CALSCALE:GREGORIAN
BEGIN:VEVENT
DTSTART:20090625T150000Z
DTEND:20090625T160000Z
X-MICROSOFT-CDO-ALLDAYEVENT:FALSE
SUMMARY:2009 Board of Directors - June 25\, 2009 - Science Spectrum
DESCRIPTION:
X-ALT-DESC;FMTTYPE=text/html:
LOCATION:
UID:e.2749.3087
SEQUENCE:3
DTSTAMP:20260422T075245Z
URL:https://business.lubbockchamber.com/events/details/2009-board-of-directors-june-25-2009-science-spectrum-06-25-2009-3087
END:VEVENT

END:VCALENDAR
