BEGIN:VCALENDAR
VERSION:2.0
PRODID:-//ChamberMaster//Event Calendar 2.0//EN
METHOD:PUBLISH
X-PUBLISHED-TTL:P3D
REFRESH-INTERVAL:P3D
CALSCALE:GREGORIAN
BEGIN:VEVENT
DTSTART:20090326T150000Z
DTEND:20090326T160000Z
X-MICROSOFT-CDO-ALLDAYEVENT:FALSE
SUMMARY:2009 Board of Directors - March 26\, 2009
DESCRIPTION:
X-ALT-DESC;FMTTYPE=text/html:
LOCATION:Texas Department of Transportation
UID:e.2749.3079
SEQUENCE:3
DTSTAMP:20260422T122042Z
URL:https://business.lubbockchamber.com/events/details/2009-board-of-directors-march-26-2009-03-26-2009-3079
END:VEVENT

END:VCALENDAR
