BEGIN:VCALENDAR
VERSION:2.0
PRODID:-//ChamberMaster//Event Calendar 2.0//EN
METHOD:PUBLISH
X-PUBLISHED-TTL:P3D
REFRESH-INTERVAL:P3D
CALSCALE:GREGORIAN
BEGIN:VEVENT
DTSTART:20090528T150000Z
DTEND:20090528T160000Z
X-MICROSOFT-CDO-ALLDAYEVENT:FALSE
SUMMARY:2009 Board of Directors - May 28\, 2009 - The Leagacy (YWCA)
DESCRIPTION:
X-ALT-DESC;FMTTYPE=text/html:
LOCATION:The Leagacy
UID:e.2749.3086
SEQUENCE:3
DTSTAMP:20260422T091643Z
URL:https://business.lubbockchamber.com/events/details/2009-board-of-directors-may-28-2009-the-leagacy-ywca-05-28-2009-3086
END:VEVENT

END:VCALENDAR
