BEGIN:VCALENDAR
VERSION:2.0
PRODID:-//ChamberMaster//Event Calendar 2.0//EN
METHOD:PUBLISH
X-PUBLISHED-TTL:P3D
REFRESH-INTERVAL:P3D
CALSCALE:GREGORIAN
BEGIN:VEVENT
DTSTART:20091009T050000Z
DTEND:20091009T050000Z
X-MICROSOFT-CDO-ALLDAYEVENT:FALSE
SUMMARY:2009 Board of Directors - October 29\, 2009
DESCRIPTION:
X-ALT-DESC;FMTTYPE=text/html:
LOCATION:
UID:e.2749.3096
SEQUENCE:3
DTSTAMP:20260422T013311Z
URL:https://business.lubbockchamber.com/events/details/2009-board-of-directors-october-29-2009-10-09-2009-3096
END:VEVENT

END:VCALENDAR
