BEGIN:VCALENDAR
VERSION:2.0
PRODID:-//ChamberMaster//Event Calendar 2.0//EN
METHOD:PUBLISH
X-PUBLISHED-TTL:P3D
REFRESH-INTERVAL:P3D
CALSCALE:GREGORIAN
BEGIN:VEVENT
DTSTART:20090423T050000Z
DTEND:20090423T050000Z
X-MICROSOFT-CDO-ALLDAYEVENT:FALSE
SUMMARY:2009 Executive Board - April 23\, 2009
DESCRIPTION:
X-ALT-DESC;FMTTYPE=text/html:
LOCATION:
UID:e.2749.3081
SEQUENCE:3
DTSTAMP:20260422T104622Z
URL:https://business.lubbockchamber.com/events/details/2009-executive-board-april-23-2009-04-23-2009-3081
END:VEVENT

END:VCALENDAR
