BEGIN:VCALENDAR
VERSION:2.0
PRODID:-//ChamberMaster//Event Calendar 2.0//EN
METHOD:PUBLISH
X-PUBLISHED-TTL:P3D
REFRESH-INTERVAL:P3D
CALSCALE:GREGORIAN
BEGIN:VEVENT
DTSTART:20090611T050000Z
DTEND:20090611T050000Z
X-MICROSOFT-CDO-ALLDAYEVENT:FALSE
SUMMARY:2009 Executive Board - June 11\, 2009
DESCRIPTION:Executive Board
X-ALT-DESC;FMTTYPE=text/html:Executive Board 
LOCATION:
UID:e.2749.3090
SEQUENCE:3
DTSTAMP:20260422T091346Z
URL:https://business.lubbockchamber.com/events/details/2009-executive-board-june-11-2009-06-11-2009-3090
END:VEVENT

END:VCALENDAR
