BEGIN:VCALENDAR
VERSION:2.0
PRODID:-//ChamberMaster//Event Calendar 2.0//EN
METHOD:PUBLISH
X-PUBLISHED-TTL:P3D
REFRESH-INTERVAL:P3D
CALSCALE:GREGORIAN
BEGIN:VEVENT
DTSTART:20100218T160000Z
DTEND:20100218T170000Z
X-MICROSOFT-CDO-ALLDAYEVENT:FALSE
SUMMARY:2010 Board of Directors - Febrauary 18\, 2010 - Lubbock Heart Hospital
DESCRIPTION:
X-ALT-DESC;FMTTYPE=text/html:
LOCATION:
UID:e.2749.3110
SEQUENCE:3
DTSTAMP:20260421T185927Z
URL:https://business.lubbockchamber.com/events/details/2010-board-of-directors-febrauary-18-2010-lubbock-heart-hospital-02-18-2010-3110
END:VEVENT

END:VCALENDAR
