BEGIN:VCALENDAR
VERSION:2.0
PRODID:-//ChamberMaster//Event Calendar 2.0//EN
METHOD:PUBLISH
X-PUBLISHED-TTL:P3D
REFRESH-INTERVAL:P3D
CALSCALE:GREGORIAN
BEGIN:VEVENT
DTSTART:20100729T150000Z
DTEND:20100729T160000Z
X-MICROSOFT-CDO-ALLDAYEVENT:FALSE
SUMMARY:2010 Board of Directors - July 29\, 2010 - International Cultural Center TTU
DESCRIPTION:
X-ALT-DESC;FMTTYPE=text/html:
LOCATION:
UID:e.2749.3111
SEQUENCE:3
DTSTAMP:20260421T112539Z
URL:https://business.lubbockchamber.com/events/details/2010-board-of-directors-july-29-2010-international-cultural-center-ttu-07-29-2010-3111
END:VEVENT

END:VCALENDAR
