BEGIN:VCALENDAR
VERSION:2.0
PRODID:-//ChamberMaster//Event Calendar 2.0//EN
METHOD:PUBLISH
X-PUBLISHED-TTL:P3D
REFRESH-INTERVAL:P3D
CALSCALE:GREGORIAN
BEGIN:VEVENT
DTSTART:20100617T050000Z
DTEND:20100617T050000Z
X-MICROSOFT-CDO-ALLDAYEVENT:FALSE
SUMMARY:2010 Board of Directors - June 17\, 2010 - Lubbock Detention Center
DESCRIPTION:
X-ALT-DESC;FMTTYPE=text/html:
LOCATION:
UID:e.2749.3109
SEQUENCE:3
DTSTAMP:20260421T125230Z
URL:https://business.lubbockchamber.com/events/details/2010-board-of-directors-june-17-2010-lubbock-detention-center-06-17-2010-3109
END:VEVENT

END:VCALENDAR
