BEGIN:VCALENDAR
VERSION:2.0
PRODID:-//ChamberMaster//Event Calendar 2.0//EN
METHOD:PUBLISH
X-PUBLISHED-TTL:P3D
REFRESH-INTERVAL:P3D
CALSCALE:GREGORIAN
BEGIN:VEVENT
DTSTART:20100413T050000Z
DTEND:20100413T050000Z
X-MICROSOFT-CDO-ALLDAYEVENT:FALSE
SUMMARY:2010 Board of Directors - Speical Called w/Electric Utility Board 4/13/2010
DESCRIPTION:
X-ALT-DESC;FMTTYPE=text/html:
LOCATION:Workforce Conference Room 2nd Floor
UID:e.2749.3103
SEQUENCE:3
DTSTAMP:20260421T155234Z
URL:https://business.lubbockchamber.com/events/details/2010-board-of-directors-speical-called-w-electric-utility-board-4-13-2010-04-13-2010-3103
END:VEVENT

END:VCALENDAR
