BEGIN:VCALENDAR
VERSION:2.0
PRODID:-//ChamberMaster//Event Calendar 2.0//EN
METHOD:PUBLISH
X-PUBLISHED-TTL:P3D
REFRESH-INTERVAL:P3D
CALSCALE:GREGORIAN
BEGIN:VEVENT
DTSTART:20100421T050000Z
DTEND:20100421T050000Z
X-MICROSOFT-CDO-ALLDAYEVENT:FALSE
SUMMARY:2010 Executive Board - April 22\, 2010 - LEDA Board Room
DESCRIPTION:
X-ALT-DESC;FMTTYPE=text/html:
LOCATION:
UID:e.2749.3104
SEQUENCE:3
DTSTAMP:20260421T155042Z
URL:https://business.lubbockchamber.com/events/details/2010-executive-board-april-22-2010-leda-board-room-04-21-2010-3104
END:VEVENT

END:VCALENDAR
