BEGIN:VCALENDAR
VERSION:2.0
PRODID:-//ChamberMaster//Event Calendar 2.0//EN
METHOD:PUBLISH
X-PUBLISHED-TTL:P3D
REFRESH-INTERVAL:P3D
CALSCALE:GREGORIAN
BEGIN:VEVENT
DTSTART:20211116T220000Z
DTEND:20211116T233000Z
X-MICROSOFT-CDO-ALLDAYEVENT:FALSE
SUMMARY:2021 November Chamber Basics
DESCRIPTION:Chamber Basics is an excellent event to learn about all of the opportunities the Chamber provides. This is a FREE event and appetizers will be served. You do not have to be a Chamber Member to attend.\n\n\n\nFor more information please contact Cathy Potter\, Member Relations Director\, by e-mail or by phone at (806) 761-7000.
X-ALT-DESC;FMTTYPE=text/html:Chamber Basics is an excellent event to learn about all of the opportunities the Chamber provides. This is a FREE event and appetizers will be served. You do not have to be a Chamber Member to attend.<br />\n<br />\nFor more information please contact Cathy Potter\, Member Relations Director\, by e-mail or by phone at (806) 761-7000.&nbsp\;<br />\n<br />\n&nbsp\;
LOCATION:Hillcrest Golf & Country Club 4011 North Boston Ave. Lubbock TX 79415
UID:e.2749.10705
SEQUENCE:3
DTSTAMP:20260422T104606Z
URL:https://business.lubbockchamber.com/events/details/2021-november-chamber-basics-10705
END:VEVENT

END:VCALENDAR
