BEGIN:VCALENDAR
VERSION:2.0
PRODID:-//ChamberMaster//Event Calendar 2.0//EN
METHOD:PUBLISH
X-PUBLISHED-TTL:P3D
REFRESH-INTERVAL:P3D
CALSCALE:GREGORIAN
BEGIN:VEVENT
DTSTART:20210807T140000Z
DTEND:20210807T210000Z
X-MICROSOFT-CDO-ALLDAYEVENT:FALSE
SUMMARY:2021 XIT Arts & Crafts Show
DESCRIPTION:We are looking for vendors for our annual XIT Arts & Crafts show. This show will be held during the 85th XIT Rodeo and Reunion in Dalhart\, TX. Call our office or visit our website for more information. Dallam.agrilife.org 806-244-4434
X-ALT-DESC;FMTTYPE=text/html:We are looking for vendors for our annual XIT Arts &amp\; Crafts show. This show will be held during the 85th XIT Rodeo and Reunion in Dalhart\, TX. Call our office or visit our website for more information. Dallam.agrilife.org 806-244-4434
LOCATION:Veterans Memorial Park Dalhart\, TX 79022
UID:e.2749.10724
SEQUENCE:3
DTSTAMP:20260425T031231Z
URL:https://business.lubbockchamber.com/events/details/2021-xit-arts-crafts-show-10724
END:VEVENT

END:VCALENDAR
