BEGIN:VCALENDAR
VERSION:2.0
PRODID:-//ChamberMaster//Event Calendar 2.0//EN
METHOD:PUBLISH
X-PUBLISHED-TTL:P3D
REFRESH-INTERVAL:P3D
CALSCALE:GREGORIAN
BEGIN:VEVENT
DTSTART:20250911T140000Z
DTEND:20250911T200000Z
X-MICROSOFT-CDO-ALLDAYEVENT:FALSE
SUMMARY:2025 September Mega Marketing
DESCRIPTION:What if you could do several weeks worth of networking in just one session with many Lubbock Chamber of Commerce Members?  This super networking event provides your company the opportunity to present its products and services to Chamber members.  Businesses from Lubbock will concentrate on networking in a fun\, speed dating format that guarantees to open doors for future business relationships.  Refreshments and lunch will be provided for your enjoyment at no additional cost.
X-ALT-DESC;FMTTYPE=text/html:<span style="font-size: 10pt\; font-family: Arial\, sans-serif\; background-image: initial\; background-position: initial\; background-size: initial\; background-repeat: initial\; background-attachment: initial\; background-origin: initial\; background-clip: initial\;">What if you could do several weeks worth of networking in just one session with many Lubbock Chamber of Commerce Members?&nbsp\; This super networking event provides your company the opportunity to present its products and services to Chamber members.&nbsp\; Businesses from Lubbock will concentrate on networking in a fun\, speed dating format that guarantees to open doors for future business relationships.&nbsp\; Refreshments and lunch will be provided for your enjoyment at no additional cost.</span>
LOCATION:Lubbock-Cooper ISD Administrative Office Henderson/Carpenter Rooms 13807 Indiana Avenue Lubbock\, TX 79423
UID:e.2749.13237
SEQUENCE:3
DTSTAMP:20260421T083819Z
URL:https://business.lubbockchamber.com/events/details/2025-september-mega-marketing-13237
END:VEVENT

END:VCALENDAR
