BEGIN:VCALENDAR
VERSION:2.0
PRODID:-//ChamberMaster//Event Calendar 2.0//EN
METHOD:PUBLISH
X-PUBLISHED-TTL:P3D
REFRESH-INTERVAL:P3D
CALSCALE:GREGORIAN
BEGIN:VEVENT
DTSTART:20270209T233000Z
DTEND:20270210T010000Z
X-MICROSOFT-CDO-ALLDAYEVENT:FALSE
SUMMARY:2027 February YP Off the Clock Sponsored By LHUCA
DESCRIPTION:Join us for our February Young Professionals Off the Clock at the LHUCA!
X-ALT-DESC;FMTTYPE=text/html:<span style="font-size:14px\;"><span style="font-family:times new roman\;"><span style="color: rgb(66\, 66\, 66)\;">Join us for our February Young Professionals Off the Clock at the LHUCA!</span>&nbsp\;</span></span>
LOCATION:Louise Hopkins Underwood Art Center 511 Avenue K Lubbock\, TX 79401
UID:e.2749.13641
SEQUENCE:3
DTSTAMP:20260424T220954Z
URL:https://business.lubbockchamber.com/events/details/2026-february-yp-off-the-clock-sponsored-by-lhuca-13641
END:VEVENT

END:VCALENDAR
