BEGIN:VCALENDAR
VERSION:2.0
PRODID:-//ChamberMaster//Event Calendar 2.0//EN
METHOD:PUBLISH
X-PUBLISHED-TTL:P3D
REFRESH-INTERVAL:P3D
CALSCALE:GREGORIAN
BEGIN:VEVENT
DTSTART;VALUE=DATE:20260922
DTEND;VALUE=DATE:20260924
TRANSP:TRANSPARENT
X-MICROSOFT-CDO-ALLDAYEVENT:TRUE
SUMMARY:2026 - Hub City BBQ Cookoff
DESCRIPTION:The Hub City BBQ Cookoff features over 100 cooking teams representing Chamber member businesses. Competing teams participate in multiple categories such as pork ribs\, beans\, desserts\, and more! 1st   9th place winners are announced in each category at the conclusion of the competition.\n\nStay updated on the Hub City BBQ Cookoff by following us on Facebook!
X-ALT-DESC;FMTTYPE=text/html:<div background-attachment:="" background-clip:="" background-image:="" background-origin:="" background-position:="" background-repeat:="" background-size:="" benton="" border-collapse:="" border-radius:="" border:="" box-shadow:="" class="mn-sponsor-group" height:="" left:="" line-height:="" margin:="" max-height:="" max-width:="" min-height:="" min-width:="" opacity:="" outline-offset:="" overflow-wrap:="" overflow:="" padding:="" position:="" resize:="" right:="" style="box-sizing: content-box\; bottom: auto\; clear: none\; content: normal\; direction: inherit\; empty-cells: show\; float: none\; font-variant-numeric: inherit\; font-variant-east-asian: inherit\; font-stretch: inherit\; font-size: 16px\; font-family: " table-layout:="" text-overflow:="" top:="" vertical-align:="" visibility:="" width:="" word-break:="" z-index:="">\n<div background-attachment:="" background-clip:="" background-image:="" background-origin:="" background-position:="" background-repeat:="" background-size:="" benton="" border-collapse:="" border-radius:="" border:="" box-shadow:="" class="mn-sponsor-group" height:="" left:="" line-height:="" margin:="" max-height:="" max-width:="" min-height:="" min-width:="" opacity:="" outline-offset:="" overflow-wrap:="" overflow:="" padding:="" position:="" resize:="" right:="" style="box-sizing: content-box\; bottom: auto\; clear: none\; content: normal\; direction: inherit\; empty-cells: show\; float: none\; font-variant-numeric: inherit\; font-variant-east-asian: inherit\; font-stretch: inherit\; font-size: 16px\; font-family: " table-layout:="" text-overflow:="" top:="" vertical-align:="" visibility:="" width:="" word-break:="" z-index:="">\n<p style="box-sizing: border-box\; margin: 0px 0px 10px\; font-size: 19px\; color: rgb(0\, 37\, 84)\; font-family: &quot\;Open Sans&quot\;\, sans-serif\; background-color: rgb(255\, 255\, 255)\;">The Hub City BBQ Cookoff features over 100 cooking teams representing Chamber member businesses. Competing teams participate in multiple categories such as pork ribs\, beans\, desserts\, and more! 1st &ndash\; 9th place winners are announced in each category at the conclusion of the competition.</p>\n\n<p style="box-sizing: border-box\; margin: 0px 0px 10px\; font-size: 19px\; color: rgb(0\, 37\, 84)\; font-family: &quot\;Open Sans&quot\;\, sans-serif\; background-color: rgb(255\, 255\, 255)\;">Stay updated on the Hub City BBQ Cookoff by following us on Facebook!</p>\n</div>\n</div>\n
LOCATION:Cook's Garage
UID:e.2749.13540
SEQUENCE:3
DTSTAMP:20260425T165357Z
URL:https://business.lubbockchamber.com/events/details/2026-hub-city-bbq-cookoff-13540
END:VEVENT

END:VCALENDAR
