BEGIN:VCALENDAR
VERSION:2.0
PRODID:-//ChamberMaster//Event Calendar 2.0//EN
METHOD:PUBLISH
X-PUBLISHED-TTL:P3D
REFRESH-INTERVAL:P3D
CALSCALE:GREGORIAN
BEGIN:VEVENT
DTSTART:20260613T150000Z
DTEND:20260613T190000Z
X-MICROSOFT-CDO-ALLDAYEVENT:FALSE
SUMMARY:806 Servefest
DESCRIPTION:Join us for 806 ServeFest\, a day of service\, leadership\, and community! This is your chance to give back\, grow as a leader\, and connect with others - all while making a real impact in Lubbock.
X-ALT-DESC;FMTTYPE=text/html:Join us for 806 ServeFest\, a day of service\, leadership\, and community! This is your chance to give back\, grow as a leader\, and connect with others - all while making a real impact in Lubbock.
LOCATION:Volunteer Center of Lubbock 1219 Avenue K
UID:e.2749.15491
SEQUENCE:3
DTSTAMP:20260421T202138Z
URL:https://business.lubbockchamber.com/events/details/806-servefest-15491
END:VEVENT

END:VCALENDAR
