BEGIN:VCALENDAR
VERSION:2.0
PRODID:-//ChamberMaster//Event Calendar 2.0//EN
METHOD:PUBLISH
X-PUBLISHED-TTL:P3D
REFRESH-INTERVAL:P3D
CALSCALE:GREGORIAN
BEGIN:VEVENT
DTSTART:20260506T160000Z
DTEND:20260506T180000Z
X-MICROSOFT-CDO-ALLDAYEVENT:FALSE
SUMMARY:Big Heart Bash
DESCRIPTION:Please join the Volunteer Center of Lubbock to celebrate our youth volunteers and leaders! Nonprofit fair\, lunch and awards ceremony.
X-ALT-DESC;FMTTYPE=text/html:Please join the Volunteer Center of Lubbock to celebrate our youth volunteers and leaders! Nonprofit fair\, lunch and awards ceremony.
LOCATION:YWCA 6501 University Ave\, Lubbock\, TX 79413
UID:e.2749.15492
SEQUENCE:3
DTSTAMP:20260425T154400Z
URL:https://business.lubbockchamber.com/events/details/big-heart-bash-15492
END:VEVENT

END:VCALENDAR
