BEGIN:VCALENDAR
VERSION:2.0
PRODID:-//ChamberMaster//Event Calendar 2.0//EN
METHOD:PUBLISH
X-PUBLISHED-TTL:P3D
REFRESH-INTERVAL:P3D
CALSCALE:GREGORIAN
BEGIN:VEVENT
DTSTART:20270204T233000Z
DTEND:20270205T010000Z
X-MICROSOFT-CDO-ALLDAYEVENT:FALSE
SUMMARY:Business After Hours sponsored by West Texas National Bank
DESCRIPTION:Join us for Business After Hours sponsored by West Texas National Bank!
X-ALT-DESC;FMTTYPE=text/html:Join us for Business After Hours sponsored by West Texas National Bank!
LOCATION:6502 Slide Road\, Suite 110 Lubbock\, TX 79424
UID:e.2749.13640
SEQUENCE:3
DTSTAMP:20260424T221123Z
URL:https://business.lubbockchamber.com/events/details/business-after-hours-sponsored-by-west-texas-national-bank-13640
END:VEVENT

END:VCALENDAR
