BEGIN:VCALENDAR
VERSION:2.0
PRODID:-//ChamberMaster//Event Calendar 2.0//EN
METHOD:PUBLISH
X-PUBLISHED-TTL:P3D
REFRESH-INTERVAL:P3D
CALSCALE:GREGORIAN
BEGIN:VEVENT
DTSTART:20260502T160000Z
DTEND:20260502T210000Z
X-MICROSOFT-CDO-ALLDAYEVENT:FALSE
SUMMARY:Dino Day
DESCRIPTION:Step into a world millions of years in the making at Dino Day an immersive\, hands-on celebration of prehistoric life for all ages. From towering dinosaurs to ancient oceans teeming with life\, discover the stories fossils tell and the science that brings them back to life. * Meet the Experts: Talk with paleontologists and Natural Science Research Lab specialists * Live Demonstrations: Fossil excavation\, plaster jacketing\, mapping\, and prep lab techniques * Fossil Journey: See how fossils go from discovery to research to museum display Hands-On Activities: ? Create trace fossils (tracks & imprints) ? Make your own "insect in amber" ? Dinosaur-themed scavenger hunt Interactive Exploration: Touchable fossil replicas and real specimen displays Mini Science Talks: Informal\, engaging chats for curious minds of all ages For Every Age: ? Kids: Crafts and simple\, fun demos ? Teens: Fossil ID and ecosystem exploration ? Adults: Research insights and career conversations Pre-Event Lecture April 30\, 2026 6 PM Requiem for a Giant: What Happened to Carcharocles megalodon? Speaker: Dr. Robert W. Boessenecker
X-ALT-DESC;FMTTYPE=text/html:Step into a world millions of years in the making at Dino Day&mdash\;an immersive\, hands-on celebration of prehistoric life for all ages. From towering dinosaurs to ancient oceans teeming with life\, discover the stories fossils tell and the science that brings them back to life. * Meet the Experts: Talk with paleontologists and Natural Science Research Lab specialists * Live Demonstrations: Fossil excavation\, plaster jacketing\, mapping\, and prep lab techniques * Fossil Journey: See how fossils go from discovery to research to museum display Hands-On Activities: ? Create trace fossils (tracks &amp\; imprints) ? Make your own &ldquo\;insect in amber&rdquo\; ? Dinosaur-themed scavenger hunt Interactive Exploration: Touchable fossil replicas and real specimen displays Mini Science Talks: Informal\, engaging chats for curious minds of all ages For Every Age: ? Kids: Crafts and simple\, fun demos ? Teens: Fossil ID and ecosystem exploration ? Adults: Research insights and career conversations Pre-Event Lecture April 30\, 2026 6 PM Requiem for a Giant: What Happened to Carcharocles megalodon? Speaker: Dr. Robert W. Boessenecker
LOCATION:Museum at Texas Tech
UID:e.2749.15480
SEQUENCE:3
DTSTAMP:20260421T032709Z
URL:https://business.lubbockchamber.com/events/details/dino-day-15480
END:VEVENT

END:VCALENDAR
