BEGIN:VCALENDAR
VERSION:2.0
PRODID:-//ChamberMaster//Event Calendar 2.0//EN
METHOD:PUBLISH
X-PUBLISHED-TTL:P3D
REFRESH-INTERVAL:P3D
CALSCALE:GREGORIAN
BEGIN:VEVENT
DTSTART:20260311T180000Z
DTEND:20260311T193000Z
X-MICROSOFT-CDO-ALLDAYEVENT:FALSE
SUMMARY:Learn + Connect: TAX UPDATES
DESCRIPTION:*** CLICK HERE TO REGISTER ***\n\n\n\nCMMS CPAs & Advisors PLLC of Lubbock\, Texas presents Learn + Connect: TAX UPDATES.  Spend time with us as we share key provisions from Trump's "One Big Beautiful Bill Act" (OBBBA)\, including...\n\n\n\nTax Updates for Individuals:\n\n\n	Income Tax Rates\n	Deductions\n	Estate Taxes\n	'No Tax on Tips'\n	'No Tax on Overtime'\n	Car Loan Interest\n	Deductions for Seniors\n	Trump Accounts\n\n\nTax Updates for Businesses:\n\n\n	Form 1099\n	Bonus Depreciation\n	QBI Deduction\n	FMLA\n	Qualified Opportunity Zones\n	Research & Development\n\n\n...AND MORE!\n\n\n\nWe will be available for Q&A following our presentation.\n\nDrinks and snacks will be provided.\n\nWe look forward to sharing time with you\, learning and connecting!\n\n\n\nCMMS CPAs & Advisors PLLC is an ATLAS Navigators\, LLC firm.\n\n\n\n\n\n*** CLICK HERE TO REGISTER ***\n\n\n\n\nABOUT OUR PRESENTERS:\n\n\n\nThis presentation given by Loni Woodley\, CPA\, ABV\, CFF\, and Managing Partner of ATLAS Navigators\, LLC.  Loni grew up in Iowa\, developing strong work ethics in a small farming community. He graduated from the University of Northern Iowa and passed the CPA exam just after graduation. Loni started his career in public accounting with McGladery & Pullen in Iowa City\, then spent time as a CFO in the private and public sectors. In 2010\, he became the founder of ATLAS with its first locations in Colorado. Through successful mergers and acquisitions\, ATLAS now has 25 locations across eight states\, with our five West Texas locations operating as CMMS CPAs & Advisors PLLC.  /  Throughout his years in public accounting\, Loni has honed his skills in audit\, tax and accounting\, and mergers and acquisitions. His years of experience have also afforded him the opportunity to dive into the unique complexities of various industries\, allowing him to support those in architecture\, engineering\, land development\, construction\, local government\, and more\, at a very high level.  /  Loni knows that actively involved leadership is important to the culture of ATLAS\, and strives to lead by example. With his Partners and key team members\, ATLAS has become what it is today   a 'small firm' feel\, with 'big firm' resources.  /  ATLAS is an acronym standing for Advisors That Listen And Serve. The firm focuses on the greater needs of its clients by being a true advisory and consultative partner\, helping clients steady their day-to-day operations\, unleashing more time for them to work on their business\, creating plans\, and reaching goals. ATLAS promises to "give your business the same time and attention that you do."\n\n\n\nThis presentation supported by Candice Kimbrough\, Tax Manager of CMMS CPAs & Advisors PLLC\, an ATLAS Navigators\, LLC firm\, in Lubbock\, Texas.  Candice holds a Bachelors in Accounting and an MBA in Entrepreneurship from Texas Tech University\, with eligibility for the EA and CPA exams. Candice has more than 17 years of experience as an accountant\, including more than 10 years as a tax manager overseeing client relationships\, office operations\, and managing workflow.  /  Candice's own experience as a business owner and operator\, combined with her years in accounting\, and her Entrepreneurial degree\, have made her uniquely qualified to care for our business and individual clients. Her deep understanding of the challenges and opportunities faced by business owners\, while being able to approach such matters with a tax\, accounting\, and strategy-based mindset has allowed Candice to help many of our business clients experience growth.  /  Candice has a deep understanding of the financial and operational fundamentals necessary for small and mid-sized businesses to succeed. Throughout her career in public accounting\, Candice has honed her skills in budgeting\, forecasting\, and revenue generation\, and   with a comprehensive knowledge of tax planning   is able to support clients not only with regulatory compliance\, but also business growth plans and advanced strategies for tax savings. Her vast experience in all aspects of the accounting industry has afforded her the opportunity to work with- and develop expertise in- a very wide-range of industries\, including medical\, real estate\, and professional services.
X-ALT-DESC;FMTTYPE=text/html:<p><br />\n<span style="font-family:arial\,helvetica\,sans-serif\; font-size:14px"><strong><a href="https://events.teams.microsoft.com/event/0a863da3-34ea-44ab-bd26-0bdc9f87bdbb@72ff1266-d3ba-4fe4-ba8e-86fbbfd8a924"><span style="font-size:18px">*** CLICK HERE TO REGISTER ***</span></a><br />\n<br />\nCMMS CPAs &amp\; Advisors PLLC of Lubbock\, Texas <em>presents</em> Learn + Connect: TAX UPDATES.&nbsp\;</strong>&nbsp\;Spend time with us as we share key provisions from Trump&#39\;s &quot\;One Big Beautiful Bill Act&quot\; (OBBBA)\, including...<br />\n<br />\nTax Updates for Individuals:</span></p>\n\n<ul>\n	<li>Income Tax Rates</li>\n	<li><span style="font-family:arial\,helvetica\,sans-serif\; font-size:14px">Deductions</span></li>\n	<li><span style="font-family:arial\,helvetica\,sans-serif\; font-size:14px">Estate Taxes</span></li>\n	<li><span style="font-family:arial\,helvetica\,sans-serif\; font-size:14px">&#39\;No Tax on Tips&#39\;</span></li>\n	<li><span style="font-family:arial\,helvetica\,sans-serif\; font-size:14px">&#39\;No Tax on Overtime&#39\;</span></li>\n	<li><span style="font-family:arial\,helvetica\,sans-serif\; font-size:14px">Car Loan Interest</span></li>\n	<li><span style="font-family:arial\,helvetica\,sans-serif\; font-size:14px">Deductions for Seniors</span></li>\n	<li><span style="font-family:arial\,helvetica\,sans-serif\; font-size:14px">Trump Accounts</span></li>\n</ul>\n\n<p><span style="font-family:arial\,helvetica\,sans-serif\; font-size:14px">Tax Updates for Businesses:</span></p>\n\n<ul>\n	<li>Form 1099</li>\n	<li><span style="font-family:arial\,helvetica\,sans-serif\; font-size:14px">Bonus Depreciation</span></li>\n	<li><span style="font-family:arial\,helvetica\,sans-serif\; font-size:14px">QBI Deduction</span></li>\n	<li><span style="font-family:arial\,helvetica\,sans-serif\; font-size:14px">FMLA</span></li>\n	<li><span style="font-family:arial\,helvetica\,sans-serif\; font-size:14px">Qualified Opportunity Zones</span></li>\n	<li><span style="font-family:arial\,helvetica\,sans-serif\; font-size:14px">Research &amp\; Development</span></li>\n</ul>\n\n<p><span style="font-family:arial\,helvetica\,sans-serif\; font-size:14px"><em><strong>...AND MORE!</strong></em><br />\n<br />\nWe will be available for Q&amp\;A following our presentation.</span><br />\n<span style="font-family:arial\,helvetica\,sans-serif\; font-size:14px">Drinks and snacks will be provided.<br />\nWe look forward to sharing time with you\, learning and connecting!</span><br />\n<br />\n<em>CMMS CPAs &amp\; Advisors PLLC is an ATLAS Navigators\, LLC firm.</em><br />\n<br />\n<br />\n<span style="font-size:14px"><span style="font-family:arial\,helvetica\,sans-serif"><span style="font-size:18px"><a href="https://events.teams.microsoft.com/event/0a863da3-34ea-44ab-bd26-0bdc9f87bdbb@72ff1266-d3ba-4fe4-ba8e-86fbbfd8a924"><strong>*** CLICK HERE TO REGISTER ***</strong></a></span></span></span></p>\n<br />\n<br />\n<span style="font-size:14px"><span style="font-family:arial\,helvetica\,sans-serif"><strong>ABOUT OUR PRESENTERS:</strong><br />\n<br />\nThis presentation given by <strong>Loni Woodley\, CPA\, ABV\, CFF\, and Managing Partner of ATLAS Navigators\, LLC.</strong>&nbsp\; Loni grew up in Iowa\, developing strong work ethics in a small farming community. He graduated from the University of Northern Iowa and passed the CPA exam just after graduation. Loni started his career in public accounting with McGladery &amp\; Pullen in Iowa City\, then spent time as a CFO in the private and public sectors. In 2010\, he became the founder of ATLAS with its first locations in Colorado. Through successful mergers and acquisitions\, ATLAS now has 25 locations across eight states\, with our five West Texas locations operating as CMMS CPAs &amp\; Advisors PLLC.&nbsp\; /&nbsp\;&nbsp\;Throughout his years in public accounting\, Loni has honed his skills in audit\, tax and accounting\, and mergers and acquisitions. His years of experience have also afforded him the opportunity to dive into the unique complexities of various industries\, allowing him to support those in architecture\, engineering\, land development\, construction\, local government\, and more\, at a very high level.&nbsp\; /&nbsp\; Loni knows that actively involved leadership is important to the culture of ATLAS\, and strives to lead by example. With his Partners and key team members\, ATLAS has become what it is today &ndash\; a &lsquo\;small firm&rsquo\; feel\, with &lsquo\;big firm&rsquo\; resources.&nbsp\; /&nbsp\;&nbsp\;<strong>ATLAS is an acronym standing for Advisors That Listen And Serve.</strong> The firm focuses on the greater needs of its clients by being a true advisory and consultative partner\, helping clients steady their day-to-day operations\, unleashing more time for them to work on their business\, creating plans\, and reaching goals. ATLAS promises to &ldquo\;give your business the same time and attention that you do.&rdquo\;<br />\n<br />\nThis presentation supported by&nbsp\;<strong>Candice Kimbrough\, Tax Manager of CMMS CPAs &amp\; Advisors PLLC</strong>\, an ATLAS Navigators\, LLC firm\, in Lubbock\, Texas.&nbsp\; Candice holds a Bachelors in Accounting and an MBA in Entrepreneurship from Texas Tech University\, with eligibility for the EA and CPA exams. Candice has more than 17 years of experience as an accountant\, including more than 10 years as a tax manager overseeing client relationships\, office operations\, and managing workflow.&nbsp\; /&nbsp\;&nbsp\;Candice&rsquo\;s own experience as a business owner and operator\, combined with her years in accounting\, and her Entrepreneurial degree\, have made her uniquely qualified to care for our business and individual clients. Her deep understanding of the challenges and opportunities faced by business owners\, while being able to approach such matters with a tax\, accounting\, and strategy-based mindset has allowed Candice to help many of our business clients experience growth.&nbsp\; /&nbsp\;&nbsp\;Candice has a deep understanding of the financial and operational fundamentals necessary for small and mid-sized businesses to succeed. Throughout her career in public accounting\, Candice has honed her skills in budgeting\, forecasting\, and revenue generation\, and &ndash\; with a comprehensive knowledge of tax planning &ndash\; is able to support clients not only with regulatory compliance\, but also business growth plans and advanced strategies for tax savings. Her vast experience in all aspects of the accounting industry has afforded her the opportunity to work with- and develop expertise in- a very wide-range of industries\, including medical\, real estate\, and professional services.</span></span>
LOCATION:The Co Lab @ The Lubbock Chamber - Downtown Lubbock: The Casey Carpet One Executive Board Room 1500 Broadway St\, Suite 101 Lubbock\, TX 79401 Link to Google Maps is below:
UID:e.2749.13651
SEQUENCE:3
DTSTAMP:20260421T032859Z
URL:https://business.lubbockchamber.com/events/details/learn-connect-tax-updates-13651
END:VEVENT

END:VCALENDAR
