BEGIN:VCALENDAR
VERSION:2.0
PRODID:-//ChamberMaster//Event Calendar 2.0//EN
METHOD:PUBLISH
X-PUBLISHED-TTL:P3D
REFRESH-INTERVAL:P3D
CALSCALE:GREGORIAN
BEGIN:VEVENT
DTSTART:20260309T220000Z
DTEND:20260310T003000Z
X-MICROSOFT-CDO-ALLDAYEVENT:FALSE
SUMMARY:Lucky You Membership Open House
DESCRIPTION:Join us for our spring Membership Open House and learn what ClubLife is all about. The Texas Tech Club is dedicated to being your favorite spot to dine\, celebrate\, and connect. You won't want to miss one of our best Membership deals of the year! Guests will enjoy live music\, light bites\, drink specials\, and one night only New Member and Sponsor incentives! This event will feature a special offer for new Members to join The Texas Tech Club and see what #ClubLife is all about. This event is open to the public! We are opening our doors to non-Members. Tickets are $25++ per Member. Register your guest for a complimentary ticket. EARN MVP STATUS: "VIP's" and their sponsoring member(s) will be provided wristbands to enjoy special access all night long. Plus\, get entered into a raffle for exclusive prizes! Non-Members: Earn VIP status by becoming a Texas Tech Club Member during the event or before - the sooner the better! New Members who join will receive VIP status. Current Members: Earn VIP status by sponsoring a New Member who joins at the event. ATTIRE: Casual/ Business Casual OR Your Best St. Patrick's Day Attire
X-ALT-DESC;FMTTYPE=text/html:Join us for our spring Membership Open House and learn what ClubLife is all about. The Texas Tech Club is dedicated to being your favorite spot to dine\, celebrate\, and connect. You won&#39\;t want to miss one of our best Membership deals of the year! Guests will enjoy live music\, light bites\, drink specials\, and one night only New Member and Sponsor incentives! This event will feature a special offer for new Members to join The Texas Tech Club and see what #ClubLife is all about. This event is open to the public! We are opening our doors to non-Members. Tickets are $25++ per Member. Register your guest for a complimentary ticket. EARN MVP STATUS: &quot\;VIP&#39\;s&quot\; and their sponsoring member(s) will be provided wristbands to enjoy special access all night long. Plus\, get entered into a raffle for exclusive prizes! Non-Members: Earn VIP status by becoming a Texas Tech Club Member during the event or before - the sooner the better! New Members who join will receive VIP status. Current Members: Earn VIP status by sponsoring a New Member who joins at the event. ATTIRE: Casual/ Business Casual OR Your Best St. Patrick&#39\;s Day Attire
LOCATION:The Texas Tech Club 550 University Avenue\, Lubbock\, TX 79409
UID:e.2749.13646
SEQUENCE:3
DTSTAMP:20260421T020316Z
URL:https://business.lubbockchamber.com/events/details/lucky-you-membership-open-house-13646
END:VEVENT

END:VCALENDAR
