BEGIN:VCALENDAR
VERSION:2.0
PRODID:-//ChamberMaster//Event Calendar 2.0//EN
METHOD:PUBLISH
X-PUBLISHED-TTL:P3D
REFRESH-INTERVAL:P3D
CALSCALE:GREGORIAN
BEGIN:VEVENT
DTSTART:20260418T150000Z
DTEND:20260418T190000Z
X-MICROSOFT-CDO-ALLDAYEVENT:FALSE
SUMMARY:Once Upon A Story
DESCRIPTION:Join the Lubbock Children's Museum for a magical\, story-themed gathering designed to bring books\, imagination\, creativity and even a little science to life. Inspired by classic fairy tales and beloved characters\, this event is perfect for ages 3-8 and creates an immersive experience where you will step into a world of fantasy\, adventure\, and wonder. So grab your best fairy tale costume\, and join us for a magical celebration where fairy tales become reality. Enjoy these whimsical activities: Grow a Lima Beanstalk Make magic wands Knock down castle towers with catapults Help create a magic potion Take photos in front of a castle Grab a spot in front of the castle for exciting Storybook Science Shows at 11:00am & 1:00pm. This fantastical event will be held in the Explorazone on the main floor of the Science Spectrum and is included with standard Science Spectrum admission.
X-ALT-DESC;FMTTYPE=text/html:Join the Lubbock Children&rsquo\;s Museum for a magical\, story-themed gathering designed to bring books\, imagination\, creativity and even a little science to life. Inspired by classic fairy tales and beloved characters\, this event is perfect for ages 3-8 and creates an immersive experience where you will step into a world of fantasy\, adventure\, and wonder. So grab your best fairy tale costume\, and join us for a magical celebration where fairy tales become reality. Enjoy these whimsical activities: Grow a Lima Beanstalk Make magic wands Knock down castle towers with catapults Help create a magic potion Take photos in front of a castle Grab a spot in front of the castle for exciting Storybook Science Shows at 11:00am &amp\; 1:00pm. This fantastical event will be held in the Explorazone on the main floor of the Science Spectrum and is included with standard Science Spectrum admission.
LOCATION:Science Spectrum Museum & OMNI Theater 2579 S Loop 289
UID:e.2749.13786
SEQUENCE:3
DTSTAMP:20260422T072811Z
URL:https://business.lubbockchamber.com/events/details/once-upon-a-story-13786
END:VEVENT

END:VCALENDAR
