BEGIN:VCALENDAR
VERSION:2.0
PRODID:-//ChamberMaster//Event Calendar 2.0//EN
METHOD:PUBLISH
X-PUBLISHED-TTL:P3D
REFRESH-INTERVAL:P3D
CALSCALE:GREGORIAN
BEGIN:VEVENT
DTSTART:20200220T230000Z
DTEND:20200221T010000Z
X-MICROSOFT-CDO-ALLDAYEVENT:FALSE
SUMMARY:Open House
DESCRIPTION:Dyslexia screenings available. Please come out and see us at our open house.
X-ALT-DESC;FMTTYPE=text/html:Dyslexia screenings available. Please come out and see us at our open house.
LOCATION:The Condra School 1921 Broadway St. Lubbock\, TX 79401
UID:e.2749.8410
SEQUENCE:3
DTSTAMP:20260421T083652Z
URL:https://business.lubbockchamber.com/events/details/open-house-02-20-2020-8410
END:VEVENT

END:VCALENDAR
