BEGIN:VCALENDAR
VERSION:2.0
PRODID:-//ChamberMaster//Event Calendar 2.0//EN
METHOD:PUBLISH
X-PUBLISHED-TTL:P3D
REFRESH-INTERVAL:P3D
CALSCALE:GREGORIAN
BEGIN:VEVENT
DTSTART:20260423T213000Z
DTEND:20260423T220000Z
X-MICROSOFT-CDO-ALLDAYEVENT:FALSE
SUMMARY:Ribbon Cutting - 10th Anniversary & Grand Opening of Wundertre's New Office
DESCRIPTION:Join us for a ribbon cutting to celebrate the 10th anniversary and grand opening of Wundertre's new office!
X-ALT-DESC;FMTTYPE=text/html:Join us for a ribbon cutting to celebrate the 10th anniversary and grand opening of Wundertre&#39\;s new office!&nbsp\;
LOCATION:3604 34th Street Lubbock \, Texas 79410
UID:e.2749.13528
SEQUENCE:3
DTSTAMP:20260422T155045Z
URL:https://business.lubbockchamber.com/events/details/ribbon-cutting-10th-anniversary-grand-opening-of-wundertre-s-new-office-13528
END:VEVENT

END:VCALENDAR
