BEGIN:VCALENDAR
VERSION:2.0
PRODID:-//ChamberMaster//Event Calendar 2.0//EN
METHOD:PUBLISH
X-PUBLISHED-TTL:P3D
REFRESH-INTERVAL:P3D
CALSCALE:GREGORIAN
BEGIN:VEVENT
DTSTART:20260324T210000Z
DTEND:20260324T213000Z
X-MICROSOFT-CDO-ALLDAYEVENT:FALSE
SUMMARY:Ribbon Cutting - Community National Bank
DESCRIPTION:Join us for a ribbon cutting as we celebrate Community National Bank's new location!
X-ALT-DESC;FMTTYPE=text/html:Join us for a ribbon cutting as we celebrate Community National Bank&#39\;s new location!&nbsp\;
LOCATION:7904 Milwaukee Ave
UID:e.2749.13988
SEQUENCE:3
DTSTAMP:20260421T020404Z
URL:https://business.lubbockchamber.com/events/details/ribbon-cutting-community-national-bank-13988
END:VEVENT

END:VCALENDAR
