BEGIN:VCALENDAR
VERSION:2.0
PRODID:-//ChamberMaster//Event Calendar 2.0//EN
METHOD:PUBLISH
X-PUBLISHED-TTL:P3D
REFRESH-INTERVAL:P3D
CALSCALE:GREGORIAN
BEGIN:VEVENT
DTSTART:20260501T170000Z
DTEND:20260501T173000Z
X-MICROSOFT-CDO-ALLDAYEVENT:FALSE
SUMMARY:Ribbon Cutting - Glo & Spa-rkle Aesthetics and Medical Spa
DESCRIPTION:Join us for a ribbon cutting to celebrate the new location of Glo & Spa-rkle Aesthetics!
X-ALT-DESC;FMTTYPE=text/html:Join us for a ribbon cutting to celebrate the new location of Glo &amp\; Spa-rkle Aesthetics!&nbsp\;
LOCATION:
UID:e.2749.15495
SEQUENCE:3
DTSTAMP:20260424T074612Z
URL:https://business.lubbockchamber.com/events/details/ribbon-cutting-glo-spa-rkle-aesthetics-and-medical-spa-15495
END:VEVENT

END:VCALENDAR
