BEGIN:VCALENDAR
VERSION:2.0
PRODID:-//ChamberMaster//Event Calendar 2.0//EN
METHOD:PUBLISH
X-PUBLISHED-TTL:P3D
REFRESH-INTERVAL:P3D
CALSCALE:GREGORIAN
BEGIN:VEVENT
DTSTART:20230210T000000Z
DTEND:20230210T020000Z
X-MICROSOFT-CDO-ALLDAYEVENT:FALSE
SUMMARY:Senior Valentine's Dance
DESCRIPTION:Dance the night away with your sweetheart at Maggie Trejo's Senior Valentine's Dance. There will be plenty of great music\, light refreshments\, and fun. Tickets are $3/person or $5/couple for ages 50+.
X-ALT-DESC;FMTTYPE=text/html:Dance the night away with your sweetheart at Maggie Trejo&#39\;s Senior Valentine&#39\;s Dance. There will be plenty of great music\, light refreshments\, and fun. Tickets are $3/person or $5/couple for ages 50+.
LOCATION:Maggie Trejo Supercenter\, 3200 Amherst\, Lubbock\, TX 2661
UID:e.2749.11679
SEQUENCE:3
DTSTAMP:20260424T125159Z
URL:https://business.lubbockchamber.com/events/details/senior-valentine-s-dance-11679
END:VEVENT

END:VCALENDAR
