BEGIN:VCALENDAR
VERSION:2.0
PRODID:-//ChamberMaster//Event Calendar 2.0//EN
METHOD:PUBLISH
X-PUBLISHED-TTL:P3D
REFRESH-INTERVAL:P3D
CALSCALE:GREGORIAN
BEGIN:VEVENT
DTSTART:20210819T163000Z
DTEND:20210819T180000Z
X-MICROSOFT-CDO-ALLDAYEVENT:FALSE
SUMMARY:Talent Pipeline Management (TPM) Meeting
DESCRIPTION:Talent Pipeline Management (TPM) Meeting
X-ALT-DESC;FMTTYPE=text/html:Talent Pipeline Management (TPM) Meeting<br />\n&nbsp\;
LOCATION:LEDA Board Room 1500 Broadway 5th Floor Lubbock\, TX 79401
UID:e.2749.10734
SEQUENCE:3
DTSTAMP:20260425T031231Z
URL:https://business.lubbockchamber.com/events/details/talent-pipeline-management-tpm-meeting-10734
END:VEVENT

END:VCALENDAR
